BEGIN:VCALENDAR
VERSION:2.0
PRODID:-//Pfarrei St. Laurentius Kleinostheim - ECPv6.15.17//NONSGML v1.0//EN
CALSCALE:GREGORIAN
METHOD:PUBLISH
X-ORIGINAL-URL:https://www.sankt-laurentius-kleinostheim.de
X-WR-CALDESC:Veranstaltungen für Pfarrei St. Laurentius Kleinostheim
REFRESH-INTERVAL;VALUE=DURATION:PT1H
X-Robots-Tag:noindex
X-PUBLISHED-TTL:PT1H
BEGIN:VTIMEZONE
TZID:Europe/Berlin
BEGIN:DAYLIGHT
TZOFFSETFROM:+0100
TZOFFSETTO:+0200
TZNAME:CEST
DTSTART:20240331T010000
END:DAYLIGHT
BEGIN:STANDARD
TZOFFSETFROM:+0200
TZOFFSETTO:+0100
TZNAME:CET
DTSTART:20241027T010000
END:STANDARD
BEGIN:DAYLIGHT
TZOFFSETFROM:+0100
TZOFFSETTO:+0200
TZNAME:CEST
DTSTART:20250330T010000
END:DAYLIGHT
BEGIN:STANDARD
TZOFFSETFROM:+0200
TZOFFSETTO:+0100
TZNAME:CET
DTSTART:20251026T010000
END:STANDARD
BEGIN:DAYLIGHT
TZOFFSETFROM:+0100
TZOFFSETTO:+0200
TZNAME:CEST
DTSTART:20260329T010000
END:DAYLIGHT
BEGIN:STANDARD
TZOFFSETFROM:+0200
TZOFFSETTO:+0100
TZNAME:CET
DTSTART:20261025T010000
END:STANDARD
END:VTIMEZONE
BEGIN:VEVENT
DTSTART;VALUE=DATE:20250912
DTEND;VALUE=DATE:20250913
DTSTAMP:20260421T190848
CREATED:20250829T094043Z
LAST-MODIFIED:20250829T094043Z
UID:10000132-1757635200-1757721599@www.sankt-laurentius-kleinostheim.de
SUMMARY:Benefizkonzert zu Gunsten des Neubaus "Haus der Begegnung"
DESCRIPTION:
URL:https://www.sankt-laurentius-kleinostheim.de/event/benefizkonzert-zu-gunsten-des-neubaus-haus-der-begegnung/
END:VEVENT
BEGIN:VEVENT
DTSTART;VALUE=DATE:20250920
DTEND;VALUE=DATE:20250921
DTSTAMP:20260421T190848
CREATED:20250224T102347Z
LAST-MODIFIED:20250825T110941Z
UID:10000098-1758326400-1758412799@www.sankt-laurentius-kleinostheim.de
SUMMARY:Altpapiersammlung  der Ministranten und der KJG
DESCRIPTION:Die nächste Altpapiersammlung  findet am Samstag\, 20. September ab 8.00 Uhr   statt. \nBitte stellen Sie das Altpapier bereit. \nBitte merken Sie sich den nächsten Termin der Altpapiersammlung am 15. November vor.
URL:https://www.sankt-laurentius-kleinostheim.de/event/altpapiersammlung-der-ministranten-und-der-kjg/
LOCATION:Pfarrei St. Laurentius Kleinostheim
END:VEVENT
BEGIN:VEVENT
DTSTART;VALUE=DATE:20250926
DTEND;VALUE=DATE:20250927
DTSTAMP:20260421T190848
CREATED:20250827T070234Z
LAST-MODIFIED:20250827T071700Z
UID:10000129-1758844800-1758931199@www.sankt-laurentius-kleinostheim.de
SUMMARY:Konzert "In einem Atem" mit trio in un fiato
DESCRIPTION:
URL:https://www.sankt-laurentius-kleinostheim.de/event/konzert-mit-trio-in-un-fiato-in-einem-atem/
END:VEVENT
BEGIN:VEVENT
DTSTART;VALUE=DATE:20250927
DTEND;VALUE=DATE:20250928
DTSTAMP:20260421T190848
CREATED:20250825T110125Z
LAST-MODIFIED:20250825T110125Z
UID:10000128-1758931200-1759017599@www.sankt-laurentius-kleinostheim.de
SUMMARY:7-Kirchen Radwallfahrt des Pastoralen Raumes Aschaffenburg West
DESCRIPTION:
URL:https://www.sankt-laurentius-kleinostheim.de/event/7-kirchen-radwallfahrt-des-pastoralen-raumes-aschaffenburg-west/
END:VEVENT
END:VCALENDAR