BEGIN:VCALENDAR
VERSION:2.0
PRODID:-//Pfarrei St. Laurentius Kleinostheim - ECPv6.15.17//NONSGML v1.0//EN
CALSCALE:GREGORIAN
METHOD:PUBLISH
X-WR-CALNAME:Pfarrei St. Laurentius Kleinostheim
X-ORIGINAL-URL:https://www.sankt-laurentius-kleinostheim.de
X-WR-CALDESC:Veranstaltungen für Pfarrei St. Laurentius Kleinostheim
REFRESH-INTERVAL;VALUE=DURATION:PT1H
X-Robots-Tag:noindex
X-PUBLISHED-TTL:PT1H
BEGIN:VTIMEZONE
TZID:Europe/Berlin
BEGIN:DAYLIGHT
TZOFFSETFROM:+0100
TZOFFSETTO:+0200
TZNAME:CEST
DTSTART:20240331T010000
END:DAYLIGHT
BEGIN:STANDARD
TZOFFSETFROM:+0200
TZOFFSETTO:+0100
TZNAME:CET
DTSTART:20241027T010000
END:STANDARD
BEGIN:DAYLIGHT
TZOFFSETFROM:+0100
TZOFFSETTO:+0200
TZNAME:CEST
DTSTART:20250330T010000
END:DAYLIGHT
BEGIN:STANDARD
TZOFFSETFROM:+0200
TZOFFSETTO:+0100
TZNAME:CET
DTSTART:20251026T010000
END:STANDARD
BEGIN:DAYLIGHT
TZOFFSETFROM:+0100
TZOFFSETTO:+0200
TZNAME:CEST
DTSTART:20260329T010000
END:DAYLIGHT
BEGIN:STANDARD
TZOFFSETFROM:+0200
TZOFFSETTO:+0100
TZNAME:CET
DTSTART:20261025T010000
END:STANDARD
END:VTIMEZONE
BEGIN:VEVENT
DTSTART;VALUE=DATE:20250705
DTEND;VALUE=DATE:20250714
DTSTAMP:20260421T154543
CREATED:20250702T145615Z
LAST-MODIFIED:20250702T145615Z
UID:10000120-1751673600-1752451199@www.sankt-laurentius-kleinostheim.de
SUMMARY:Ausstellung in der St. Laurentius Kirche Kleinostheim  vom 5. Juli bis 13. Juli 2025
DESCRIPTION:Ausstellung mit Titel „Pilger der Hoffnung“ – \nLebensunterbrechungen in Wort und Bild. \n  \nPilger der Hoffnung ist eine Einladung zum Aufbruch. \n Eine Einladung zum Aufbruch in eine Welt\,  \nin der wir uns selbst und einander besser verstehen  \nund hoffnungsvoll in die Zukunft blicken.
URL:https://www.sankt-laurentius-kleinostheim.de/event/ausstellung-in-der-st-laurentius-kirche-kleinostheim-vom-5-juli-bis-13-juli-2025/
END:VEVENT
BEGIN:VEVENT
DTSTART;TZID=Europe/Berlin:20250712T180000
DTEND;TZID=Europe/Berlin:20250713T220000
DTSTAMP:20260421T154543
CREATED:20250623T143413Z
LAST-MODIFIED:20250623T143413Z
UID:10000119-1752343200-1752444000@www.sankt-laurentius-kleinostheim.de
SUMMARY:Grobirnfest
DESCRIPTION:
URL:https://www.sankt-laurentius-kleinostheim.de/event/grobirnfest/
END:VEVENT
BEGIN:VEVENT
DTSTART;VALUE=DATE:20250720
DTEND;VALUE=DATE:20250721
DTSTAMP:20260421T154543
CREATED:20250711T093257Z
LAST-MODIFIED:20250711T093257Z
UID:10000122-1752969600-1753055999@www.sankt-laurentius-kleinostheim.de
SUMMARY:Fahrzeugsegnung vor den Ferien
DESCRIPTION:Alljährlich vor Beginn der Sommerferien erbitten wir den Segen für alle Reisenden und alle Fahrzeuge. Wer sich den Segen Gottes für sich und sein Fahrzeug schenken lassen will\, möge sein Fahrzeug am Sonntag\, 20. Juli rund um den Kirchplatz und im Bereich der Kirchstraße zwischen dem Alten Kindergarten und der Einmündung zur Goethestraße parken. Nach dem Gottesdienst\, der um 9.30 Uhr beginnt\, erbitten wir gemeinsam den Segen.
URL:https://www.sankt-laurentius-kleinostheim.de/event/fahrzeugsegnung-vor-den-ferien/
END:VEVENT
BEGIN:VEVENT
DTSTART;VALUE=DATE:20250726
DTEND;VALUE=DATE:20250727
DTSTAMP:20260421T154543
CREATED:20250710T103246Z
LAST-MODIFIED:20250710T103246Z
UID:10000121-1753488000-1753574399@www.sankt-laurentius-kleinostheim.de
SUMMARY:Einladung zur Fußwallfahrt nach Seligenstadt
DESCRIPTION:
URL:https://www.sankt-laurentius-kleinostheim.de/event/einladung-zur-fusswallfahrt-nach-seligenstadt/
END:VEVENT
BEGIN:VEVENT
DTSTART;VALUE=DATE:20250726
DTEND;VALUE=DATE:20250729
DTSTAMP:20260421T154543
CREATED:20250711T095239Z
LAST-MODIFIED:20250711T095239Z
UID:10000124-1753488000-1753747199@www.sankt-laurentius-kleinostheim.de
SUMMARY:Einladung zum Weinfest der KAB und KjG im Pfarrgarten
DESCRIPTION:
URL:https://www.sankt-laurentius-kleinostheim.de/event/einladung-zum-weinfest-der-kab-und-kjg-im-pfarrgarten/
END:VEVENT
BEGIN:VEVENT
DTSTART;VALUE=DATE:20250727
DTEND;VALUE=DATE:20250728
DTSTAMP:20260421T154543
CREATED:20250711T094916Z
LAST-MODIFIED:20250711T094916Z
UID:10000123-1753574400-1753660799@www.sankt-laurentius-kleinostheim.de
SUMMARY:Einführung unserer neuen Ministrantinnen und Ministranten
DESCRIPTION:10 Mädchen und Jungen werden am Sonntag\, 27. Juli im Gottesdienst in die Schar unserer Ministrantinnen und Ministranten eingeführt. \nHerzliche Einladung zu diesem Gottesdienst.
URL:https://www.sankt-laurentius-kleinostheim.de/event/einfuehrung-unserer-neuen-ministrantinnen-und-ministranten/
END:VEVENT
END:VCALENDAR