BEGIN:VCALENDAR
VERSION:2.0
PRODID:-//Pfarrei St. Laurentius Kleinostheim - ECPv6.15.17//NONSGML v1.0//EN
CALSCALE:GREGORIAN
METHOD:PUBLISH
X-ORIGINAL-URL:https://www.sankt-laurentius-kleinostheim.de
X-WR-CALDESC:Veranstaltungen für Pfarrei St. Laurentius Kleinostheim
REFRESH-INTERVAL;VALUE=DURATION:PT1H
X-Robots-Tag:noindex
X-PUBLISHED-TTL:PT1H
BEGIN:VTIMEZONE
TZID:Europe/Berlin
BEGIN:DAYLIGHT
TZOFFSETFROM:+0100
TZOFFSETTO:+0200
TZNAME:CEST
DTSTART:20240331T010000
END:DAYLIGHT
BEGIN:STANDARD
TZOFFSETFROM:+0200
TZOFFSETTO:+0100
TZNAME:CET
DTSTART:20241027T010000
END:STANDARD
BEGIN:DAYLIGHT
TZOFFSETFROM:+0100
TZOFFSETTO:+0200
TZNAME:CEST
DTSTART:20250330T010000
END:DAYLIGHT
BEGIN:STANDARD
TZOFFSETFROM:+0200
TZOFFSETTO:+0100
TZNAME:CET
DTSTART:20251026T010000
END:STANDARD
BEGIN:DAYLIGHT
TZOFFSETFROM:+0100
TZOFFSETTO:+0200
TZNAME:CEST
DTSTART:20260329T010000
END:DAYLIGHT
BEGIN:STANDARD
TZOFFSETFROM:+0200
TZOFFSETTO:+0100
TZNAME:CET
DTSTART:20261025T010000
END:STANDARD
END:VTIMEZONE
BEGIN:VEVENT
DTSTART;VALUE=DATE:20250601
DTEND;VALUE=DATE:20250602
DTSTAMP:20260421T141255
CREATED:20250224T102647Z
LAST-MODIFIED:20250515T094450Z
UID:10000099-1748736000-1748822399@www.sankt-laurentius-kleinostheim.de
SUMMARY:Kleinkindgottesdienst in St. Laurentius
DESCRIPTION:
URL:https://www.sankt-laurentius-kleinostheim.de/event/kleinkindgottesdienst-in-st-laurentius-2/
LOCATION:Pfarrei St. Laurentius Kleinostheim
END:VEVENT
BEGIN:VEVENT
DTSTART;VALUE=DATE:20250609
DTEND;VALUE=DATE:20250610
DTSTAMP:20260421T141255
CREATED:20250602T153052Z
LAST-MODIFIED:20250602T153052Z
UID:10000116-1749427200-1749513599@www.sankt-laurentius-kleinostheim.de
SUMMARY:Gemeinsamer Aufbruchgottesdienst am Pfingstmontag
DESCRIPTION:Inzwischen ist der gemeinsame Aufbruchgottesdienst unserer drei Pfarrgemeinden Kleinostheim\, Mainaschaff und Stockstadt am Pfingstmontag schon zur Tradition geworden.  \nAuch in diesem Jahr findet er wieder statt und zwar in Mainaschaff. Am Montag\, 9. Juni 2025 ab 10.00 Uhr feiern wir also gemeinsam – zuerst mit einem Festgottesdienst in der Pfarrkirche St. Margaretha\, der diesmal unter dem Thema steht “Die Hoffnung verankern” und der musikalisch von der “Time-Out-Band” mitgestaltet wird. Danach findet bei eine Begegnung auf dem Kirchplatz statt. Ganz herzliche Einladung an alle!
URL:https://www.sankt-laurentius-kleinostheim.de/event/gemeinsamer-aufbruchgottesdienst-am-pfingstmontag/
END:VEVENT
BEGIN:VEVENT
DTSTART;VALUE=DATE:20250619
DTEND;VALUE=DATE:20250620
DTSTAMP:20260421T141255
CREATED:20250602T132311Z
LAST-MODIFIED:20250602T132311Z
UID:10000115-1750291200-1750377599@www.sankt-laurentius-kleinostheim.de
SUMMARY:Fronleichnam in St. Laurentius
DESCRIPTION:Fronleichnam \nAm Donnerstag\, 19. Juni findet die traditionelle Fronleichnamsprozession statt. Wir beginnen mit der Eucharistiefeier um 9.00 Uhr auf dem Kirchplatz. Anschließend gehen wir vom Kirchplatz durch die Kirchstraße\, Schillerstraße\, Bahnhofstraße und Goethestraße wieder zurück zum Kirchplatz. Alle Ortsvereine\, die eine Fahne haben\, sind eingeladen\, wie in den Jahren zuvor\, mit den Fahnenabordnungen an der Prozession teilzunehmen. Ebenso sind auch wieder alle Repräsentanten der politischen Gemeinde und unserer Laurentiusgemeinde eingeladen\, Gott Ehre zu erweisen. Auch unsere diesjährigen Kommunionkinder und ihre Familien sind hierzu herzlich eingeladen. Die Anwohner am Prozessionsweg werden gebeten\, ihre Häuser zu schmücken. An Fronleichnam „demonstrieren“ wir das Miteinander mit Jesus und die Gemeinschaft\, die daraus entsteht. \nDie KAB lädt an Fronleichnam im Anschluss an die Prozession zu einem Fest auf dem Kirchplatz ein. Gerne begrüßen wir Sie zu einem gemütlichen Beisammensein. Für das leibliche Wohl ist gesorgt.
URL:https://www.sankt-laurentius-kleinostheim.de/event/fronleichnam-in-st-laurentius/
END:VEVENT
END:VCALENDAR