BEGIN:VCALENDAR
VERSION:2.0
PRODID:-//Pfarrei St. Laurentius Kleinostheim - ECPv6.15.17//NONSGML v1.0//EN
CALSCALE:GREGORIAN
METHOD:PUBLISH
X-ORIGINAL-URL:https://www.sankt-laurentius-kleinostheim.de
X-WR-CALDESC:Veranstaltungen für Pfarrei St. Laurentius Kleinostheim
REFRESH-INTERVAL;VALUE=DURATION:PT1H
X-Robots-Tag:noindex
X-PUBLISHED-TTL:PT1H
BEGIN:VTIMEZONE
TZID:Europe/Berlin
BEGIN:DAYLIGHT
TZOFFSETFROM:+0100
TZOFFSETTO:+0200
TZNAME:CEST
DTSTART:20240331T010000
END:DAYLIGHT
BEGIN:STANDARD
TZOFFSETFROM:+0200
TZOFFSETTO:+0100
TZNAME:CET
DTSTART:20241027T010000
END:STANDARD
BEGIN:DAYLIGHT
TZOFFSETFROM:+0100
TZOFFSETTO:+0200
TZNAME:CEST
DTSTART:20250330T010000
END:DAYLIGHT
BEGIN:STANDARD
TZOFFSETFROM:+0200
TZOFFSETTO:+0100
TZNAME:CET
DTSTART:20251026T010000
END:STANDARD
BEGIN:DAYLIGHT
TZOFFSETFROM:+0100
TZOFFSETTO:+0200
TZNAME:CEST
DTSTART:20260329T010000
END:DAYLIGHT
BEGIN:STANDARD
TZOFFSETFROM:+0200
TZOFFSETTO:+0100
TZNAME:CET
DTSTART:20261025T010000
END:STANDARD
END:VTIMEZONE
BEGIN:VEVENT
DTSTART;VALUE=DATE:20250814
DTEND;VALUE=DATE:20250816
DTSTAMP:20260421T204614
CREATED:20250721T100020Z
LAST-MODIFIED:20250721T100020Z
UID:10000125-1755129600-1755302399@www.sankt-laurentius-kleinostheim.de
SUMMARY:Kräuterstraußsegnung an Maria Himmelfahrt
DESCRIPTION:Auch in diesem Jahr wird die Tradition des Kräuterstraußbindens von einer Kleinostheimer Familie fortgesetzt. Ein herzliches Vergelts`s Gott dafür. Bitte nicht darauf verlassen\, dass es für alle reicht. Die Kräutersträuße werden am Donnerstag\, 14. August um 19.00 Uhr in der Vorabendmesse und am Freitag\, 15. August um 19.00 Uhr im Gottesdienst zum Fest Maria Himmelfahrt gesegnet und angeboten.
URL:https://www.sankt-laurentius-kleinostheim.de/event/kraeuterstrausssegnung-an-maria-himmelfahrt/
END:VEVENT
END:VCALENDAR