BEGIN:VCALENDAR
VERSION:2.0
PRODID:-//Pfarrei St. Laurentius Kleinostheim - ECPv6.15.17//NONSGML v1.0//EN
CALSCALE:GREGORIAN
METHOD:PUBLISH
X-ORIGINAL-URL:https://www.sankt-laurentius-kleinostheim.de
X-WR-CALDESC:Veranstaltungen für Pfarrei St. Laurentius Kleinostheim
REFRESH-INTERVAL;VALUE=DURATION:PT1H
X-Robots-Tag:noindex
X-PUBLISHED-TTL:PT1H
BEGIN:VTIMEZONE
TZID:Europe/Berlin
BEGIN:DAYLIGHT
TZOFFSETFROM:+0100
TZOFFSETTO:+0200
TZNAME:CEST
DTSTART:20240331T010000
END:DAYLIGHT
BEGIN:STANDARD
TZOFFSETFROM:+0200
TZOFFSETTO:+0100
TZNAME:CET
DTSTART:20241027T010000
END:STANDARD
BEGIN:DAYLIGHT
TZOFFSETFROM:+0100
TZOFFSETTO:+0200
TZNAME:CEST
DTSTART:20250330T010000
END:DAYLIGHT
BEGIN:STANDARD
TZOFFSETFROM:+0200
TZOFFSETTO:+0100
TZNAME:CET
DTSTART:20251026T010000
END:STANDARD
BEGIN:DAYLIGHT
TZOFFSETFROM:+0100
TZOFFSETTO:+0200
TZNAME:CEST
DTSTART:20260329T010000
END:DAYLIGHT
BEGIN:STANDARD
TZOFFSETFROM:+0200
TZOFFSETTO:+0100
TZNAME:CET
DTSTART:20261025T010000
END:STANDARD
END:VTIMEZONE
BEGIN:VEVENT
DTSTART;TZID=Europe/Berlin:20250302T103000
DTEND;TZID=Europe/Berlin:20250302T113000
DTSTAMP:20260421T085253
CREATED:20250224T101546Z
LAST-MODIFIED:20250224T101546Z
UID:10000095-1740911400-1740915000@www.sankt-laurentius-kleinostheim.de
SUMMARY:Gelobtes Gebet
DESCRIPTION:Miteinander beten\nFüreinander Beten \nHerzliche Einladung zum Friedensgebet\nin St. Laurentius\, Kleinostheim \nWir wollen uns und die Menschen Gott anvertrauen und von ihm Schutz und Segen erbitten.
URL:https://www.sankt-laurentius-kleinostheim.de/event/gelobtes-gebet/
LOCATION:Pfarrei St. Laurentius Kleinostheim
ATTACH;FMTTYPE=image/jpeg:https://www.sankt-laurentius-kleinostheim.de/wp-content/uploads/2025/02/Plakat_2025_Canva_gelobtes_Gebet.jpg
END:VEVENT
END:VCALENDAR